BEGIN:VCALENDAR
VERSION:2.0
PRODID:-//Humane Society of the Black Hills - ECPv5.14.0.4//NONSGML v1.0//EN
CALSCALE:GREGORIAN
METHOD:PUBLISH
X-WR-CALNAME:Humane Society of the Black Hills
X-ORIGINAL-URL:https://www.hsbh.org
X-WR-CALDESC:Events for Humane Society of the Black Hills
REFRESH-INTERVAL;VALUE=DURATION:PT1H
X-Robots-Tag:noindex
X-PUBLISHED-TTL:PT1H
BEGIN:VTIMEZONE
TZID:America/Denver
BEGIN:DAYLIGHT
TZOFFSETFROM:-0700
TZOFFSETTO:-0600
TZNAME:MDT
DTSTART:20260308T090000
END:DAYLIGHT
BEGIN:STANDARD
TZOFFSETFROM:-0600
TZOFFSETTO:-0700
TZNAME:MST
DTSTART:20261101T080000
END:STANDARD
END:VTIMEZONE
BEGIN:VEVENT
DTSTART;TZID=America/Denver:20260425T100000
DTEND;TZID=America/Denver:20260425T110000
DTSTAMP:20260421T082835
CREATED:20260420T224250Z
LAST-MODIFIED:20260420T224250Z
UID:8699-1777111200-1777114800@www.hsbh.org
SUMMARY:Volunteer Orientation
DESCRIPTION:
URL:https://www.hsbh.org/event/volunteer-orientation-30/
LOCATION:The Humane Society of the Black Hills\, 1820 E. St. Patrick St.\, Rapid City\, SD\, 57703\, United States
END:VEVENT
BEGIN:VEVENT
DTSTART;TZID=America/Denver:20260429T100000
DTEND;TZID=America/Denver:20260429T110000
DTSTAMP:20260421T082835
CREATED:20260420T224555Z
LAST-MODIFIED:20260420T224555Z
UID:8701-1777456800-1777460400@www.hsbh.org
SUMMARY:Volunteer Orientation
DESCRIPTION:
URL:https://www.hsbh.org/event/volunteer-orientation-31/
LOCATION:The Humane Society of the Black Hills\, 1820 E. St. Patrick St.\, Rapid City\, SD\, 57703\, United States
END:VEVENT
END:VCALENDAR