BEGIN:VCALENDAR
VERSION:2.0
PRODID:-//Humane Society of the Black Hills - ECPv5.14.0.4//NONSGML v1.0//EN
CALSCALE:GREGORIAN
METHOD:PUBLISH
X-WR-CALNAME:Humane Society of the Black Hills
X-ORIGINAL-URL:https://www.hsbh.org
X-WR-CALDESC:Events for Humane Society of the Black Hills
REFRESH-INTERVAL;VALUE=DURATION:PT1H
X-Robots-Tag:noindex
X-PUBLISHED-TTL:PT1H
BEGIN:VTIMEZONE
TZID:America/Denver
BEGIN:DAYLIGHT
TZOFFSETFROM:-0700
TZOFFSETTO:-0600
TZNAME:MDT
DTSTART:20220313T090000
END:DAYLIGHT
BEGIN:STANDARD
TZOFFSETFROM:-0600
TZOFFSETTO:-0700
TZNAME:MST
DTSTART:20221106T080000
END:STANDARD
END:VTIMEZONE
BEGIN:VEVENT
DTSTART;TZID=America/Denver:20221224T120000
DTEND;TZID=America/Denver:20221224T160000
DTSTAMP:20260424T031957
CREATED:20220921T211234Z
LAST-MODIFIED:20220921T213614Z
UID:5794-1671883200-1671897600@www.hsbh.org
SUMMARY:CLOSED at Noon
DESCRIPTION:The Humane Society of the Black Hills is closed to the public after 12PM today so employees may spend time with their families after caring for the animals. We are closed December 25th and will resume normal hours December 26th!
URL:https://www.hsbh.org/event/closed-at-noon/
CATEGORIES:Holiday Closures
END:VEVENT
BEGIN:VEVENT
DTSTART;VALUE=DATE:20221225
DTEND;VALUE=DATE:20221226
DTSTAMP:20260424T031957
CREATED:20220921T211018Z
LAST-MODIFIED:20220921T214533Z
UID:5790-1671926400-1672012799@www.hsbh.org
SUMMARY:CLOSED
DESCRIPTION:The Humane Society of the Black Hills is closed to the public today so employees may spend the holiday with their families after caring for the animals. We will resume normal hours tomorrow\, December 26th. Thank you!
URL:https://www.hsbh.org/event/closed-16/
CATEGORIES:Holiday Closures
END:VEVENT
BEGIN:VEVENT
DTSTART;TZID=America/Denver:20221231T120000
DTEND;TZID=America/Denver:20221231T160000
DTSTAMP:20260424T031957
CREATED:20220921T214221Z
LAST-MODIFIED:20220921T214649Z
UID:5798-1672488000-1672502400@www.hsbh.org
SUMMARY:CLOSED at Noon
DESCRIPTION:The Humane Society of the Black Hills is closed to the public after 12PM today so employees may spend time with their families after caring for the animals. We are closed New Years Day\, tomorrow January 1st\, and will resume normal hours January 2nd!
URL:https://www.hsbh.org/event/closed-at-noon-2/
CATEGORIES:Holiday Closures
END:VEVENT
END:VCALENDAR