BEGIN:VCALENDAR
VERSION:2.0
PRODID:-//Humane Society of the Black Hills - ECPv5.14.0.4//NONSGML v1.0//EN
CALSCALE:GREGORIAN
METHOD:PUBLISH
X-WR-CALNAME:Humane Society of the Black Hills
X-ORIGINAL-URL:https://www.hsbh.org
X-WR-CALDESC:Events for Humane Society of the Black Hills
REFRESH-INTERVAL;VALUE=DURATION:PT1H
X-Robots-Tag:noindex
X-PUBLISHED-TTL:PT1H
BEGIN:VTIMEZONE
TZID:America/Denver
BEGIN:DAYLIGHT
TZOFFSETFROM:-0700
TZOFFSETTO:-0600
TZNAME:MDT
DTSTART:20200308T090000
END:DAYLIGHT
BEGIN:STANDARD
TZOFFSETFROM:-0600
TZOFFSETTO:-0700
TZNAME:MST
DTSTART:20201101T080000
END:STANDARD
BEGIN:DAYLIGHT
TZOFFSETFROM:-0700
TZOFFSETTO:-0600
TZNAME:MDT
DTSTART:20210314T090000
END:DAYLIGHT
BEGIN:STANDARD
TZOFFSETFROM:-0600
TZOFFSETTO:-0700
TZNAME:MST
DTSTART:20211107T080000
END:STANDARD
BEGIN:DAYLIGHT
TZOFFSETFROM:-0700
TZOFFSETTO:-0600
TZNAME:MDT
DTSTART:20220313T090000
END:DAYLIGHT
BEGIN:STANDARD
TZOFFSETFROM:-0600
TZOFFSETTO:-0700
TZNAME:MST
DTSTART:20221106T080000
END:STANDARD
END:VTIMEZONE
BEGIN:VEVENT
DTSTART;VALUE=DATE:20221026
DTEND;VALUE=DATE:20221027
DTSTAMP:20260421T082803
CREATED:20220921T210110Z
LAST-MODIFIED:20220921T210110Z
UID:5786-1666742400-1666828799@www.hsbh.org
SUMMARY:CLOSED for Deep Cleaning
DESCRIPTION:The Humane Society of the Black Hills is closed to the public today for regularly scheduled deep cleaning and all-staff training. Thank you!
URL:https://www.hsbh.org/event/closed-for-deep-cleaning-9/
CATEGORIES:Deep Cleaning Closures
END:VEVENT
BEGIN:VEVENT
DTSTART;VALUE=DATE:20220218
DTEND;VALUE=DATE:20220219
DTSTAMP:20260421T082803
CREATED:20211221T223139Z
LAST-MODIFIED:20211221T223139Z
UID:5265-1645142400-1645228799@www.hsbh.org
SUMMARY:CLOSED for Deep Cleaning
DESCRIPTION:It’s that time\, again!  The Humane Society of the Black Hills lobby is closed today for monthly deep cleaning. \nOur receiving door will be open 8AM-5PM for animal intakes and reclaims.  Call (605) 394-4170 with questions!
URL:https://www.hsbh.org/event/closed-for-deep-cleaning-8/
CATEGORIES:Deep Cleaning Closures
END:VEVENT
BEGIN:VEVENT
DTSTART;VALUE=DATE:20211217
DTEND;VALUE=DATE:20211218
DTSTAMP:20260421T082803
CREATED:20210924T142350Z
LAST-MODIFIED:20210924T142350Z
UID:5070-1639699200-1639785599@www.hsbh.org
SUMMARY:CLOSED for Deep Cleaning
DESCRIPTION:It’s that time\, again!  The Humane Society of the Black Hills lobby is closed today for monthly deep cleaning. \nOur receiving door will be open 8AM-5PM for animal intakes and reclaims.  Call (605) 394-4170 with questions!
URL:https://www.hsbh.org/event/closed-for-deep-cleaning-7/
CATEGORIES:Deep Cleaning Closures
END:VEVENT
BEGIN:VEVENT
DTSTART;VALUE=DATE:20211126
DTEND;VALUE=DATE:20211127
DTSTAMP:20260421T082803
CREATED:20210924T142318Z
LAST-MODIFIED:20210924T142318Z
UID:5068-1637884800-1637971199@www.hsbh.org
SUMMARY:CLOSED for Deep Cleaning
DESCRIPTION:It’s that time\, again!  The Humane Society of the Black Hills lobby is closed today for monthly deep cleaning. \nOur receiving door will be open 8AM-5PM for animal intakes and reclaims.  Call (605) 394-4170 with questions!
URL:https://www.hsbh.org/event/closed-for-deep-cleaning-6/
CATEGORIES:Deep Cleaning Closures
END:VEVENT
BEGIN:VEVENT
DTSTART;VALUE=DATE:20211022
DTEND;VALUE=DATE:20211023
DTSTAMP:20260421T082803
CREATED:20210924T142248Z
LAST-MODIFIED:20210924T142248Z
UID:5066-1634860800-1634947199@www.hsbh.org
SUMMARY:CLOSED for Deep Cleaning
DESCRIPTION:It’s that time\, again!  The Humane Society of the Black Hills lobby is closed today for monthly deep cleaning. \nOur receiving door will be open 8AM-5PM for animal intakes and reclaims.  Call (605) 394-4170 with questions!
URL:https://www.hsbh.org/event/closed-for-deep-cleaning-5/
CATEGORIES:Deep Cleaning Closures
END:VEVENT
BEGIN:VEVENT
DTSTART;VALUE=DATE:20210924
DTEND;VALUE=DATE:20210925
DTSTAMP:20260421T082803
CREATED:20210924T142106Z
LAST-MODIFIED:20210924T142445Z
UID:5064-1632441600-1632527999@www.hsbh.org
SUMMARY:CLOSED for Deep Cleaning
DESCRIPTION:It’s that time\, again!  The Humane Society of the Black Hills lobby is closed today for monthly deep cleaning. \nOur receiving door will be open 8AM-5PM for animal intakes and reclaims.  Call (605) 394-4170 with questions!
URL:https://www.hsbh.org/event/closed-for-deep-cleaning-4/
CATEGORIES:Deep Cleaning Closures
END:VEVENT
BEGIN:VEVENT
DTSTART;VALUE=DATE:20210201
DTEND;VALUE=DATE:20210202
DTSTAMP:20260421T082803
CREATED:20210121T214711Z
LAST-MODIFIED:20210128T153430Z
UID:4267-1612137600-1612223999@www.hsbh.org
SUMMARY:Closed for Deep Cleaning
DESCRIPTION:The Humane Society of the Black Hills will be closed to the public today for regularly scheduled deep cleaning.  We will resume normal hours tomorrow!
URL:https://www.hsbh.org/event/closed-for-deep-cleaning-3/
CATEGORIES:Deep Cleaning Closures
END:VEVENT
BEGIN:VEVENT
DTSTART;VALUE=DATE:20200810
DTEND;VALUE=DATE:20200811
DTSTAMP:20260421T082803
CREATED:20200730T143534Z
LAST-MODIFIED:20200730T143534Z
UID:3967-1597017600-1597103999@www.hsbh.org
SUMMARY:Closed for Deep Cleaning
DESCRIPTION:The Humane Society of the Black Hills will be closed to the public today for regularly scheduled deep cleaning.  Normal hours of business will resume tomorrow\, August 11th!
URL:https://www.hsbh.org/event/closed-for-deep-cleaning-2/
LOCATION:The Humane Society of the Black Hills\, 1820 E. St. Patrick St.\, Rapid City\, SD\, 57703\, United States
CATEGORIES:Deep Cleaning Closures
END:VEVENT
END:VCALENDAR