BEGIN:VCALENDAR
VERSION:2.0
PRODID:-//Humane Society of the Black Hills - ECPv5.14.0.4//NONSGML v1.0//EN
CALSCALE:GREGORIAN
METHOD:PUBLISH
X-WR-CALNAME:Humane Society of the Black Hills
X-ORIGINAL-URL:https://www.hsbh.org
X-WR-CALDESC:Events for Humane Society of the Black Hills
REFRESH-INTERVAL;VALUE=DURATION:PT1H
X-Robots-Tag:noindex
X-PUBLISHED-TTL:PT1H
BEGIN:VTIMEZONE
TZID:America/Denver
BEGIN:DAYLIGHT
TZOFFSETFROM:-0700
TZOFFSETTO:-0600
TZNAME:MDT
DTSTART:20250309T090000
END:DAYLIGHT
BEGIN:STANDARD
TZOFFSETFROM:-0600
TZOFFSETTO:-0700
TZNAME:MST
DTSTART:20251102T080000
END:STANDARD
BEGIN:DAYLIGHT
TZOFFSETFROM:-0700
TZOFFSETTO:-0600
TZNAME:MDT
DTSTART:20260308T090000
END:DAYLIGHT
BEGIN:STANDARD
TZOFFSETFROM:-0600
TZOFFSETTO:-0700
TZNAME:MST
DTSTART:20261101T080000
END:STANDARD
END:VTIMEZONE
BEGIN:VEVENT
DTSTART;TZID=America/Denver:20260411T173000
DTEND;TZID=America/Denver:20260411T203000
DTSTAMP:20260421T082609
CREATED:20260324T235743Z
LAST-MODIFIED:20260324T235743Z
UID:8655-1775928600-1775939400@www.hsbh.org
SUMMARY:Pet Gala
DESCRIPTION:Red carpet. Fancy hats. Saved lives. Join the Pet Gala and party with purpose for animals who need us most.\n\n\n\nPet Gala: Hats Off to Our Community\, Hats On for the Gala \nPresented by the Humane Society of the Black Hills \nStep onto the red carpet for an unforgettable evening where compassion meets couture. \nThe Pet Gala is a glamorous fundraising celebration benefiting the Humane Society of the Black Hills—bringing together animal lovers\, community champions\, and local supporters for a night that truly makes a difference. Expect an elegant atmosphere inspired by classic Hollywood\, complete with dazzling décor\, live entertainment\, and heartfelt purpose. \nWhat to Expect: \n\nA black-tie-inspired gala celebrating animals and the people who love them\nRed carpet flair with stylishly dressed people\nLive entertainment and engaging experiences\nA powerful opportunity to support the Humane Society of the Black Hills and our rescue efforts\n\nWhy Attend: \nYour presence helps save lives. Proceeds from the Pet Gala directly support homeless and vulnerable animals across the Black Hills—providing shelter\, medical care\, enrichment\, and second chances. \nThis is more than a fundraiser. It’s a statement of love\, responsibility\, and community. \nSo don your finest hat\, raise a glass\, and join us for a night where every paw print counts. \n🎩Hats off to our community. Hats on for the Gala. 🎩 \nGet tickets here: https://www.eventbrite.com/e/pet-gala-tickets-1982519841213
URL:https://www.hsbh.org/event/pet-gala/
CATEGORIES:Community Events
END:VEVENT
BEGIN:VEVENT
DTSTART;TZID=America/Denver:20251026T130000
DTEND;TZID=America/Denver:20251026T160000
DTSTAMP:20260421T082609
CREATED:20250710T154021Z
LAST-MODIFIED:20250710T160316Z
UID:8414-1761483600-1761494400@www.hsbh.org
SUMMARY:Muttster Mash Carnival
DESCRIPTION:Save the Date! Join us for a not-so-scary Howl-oween party\, right on the lawn of the Humane Society of the Black Hills. \nTrick-or-treating\, human and pet costume contests\, carnival games\, and more. Stay tuned right here and on our Facebook page for more announcements!
URL:https://www.hsbh.org/event/muttster-mash-carnival/
LOCATION:The Humane Society of the Black Hills\, 1820 E. St. Patrick St.\, Rapid City\, SD\, 57703\, United States
CATEGORIES:Community Events
END:VEVENT
BEGIN:VEVENT
DTSTART;TZID=America/Denver:20251004T100000
DTEND;TZID=America/Denver:20251004T130000
DTSTAMP:20260421T082609
CREATED:20251001T173647Z
LAST-MODIFIED:20251001T173647Z
UID:8488-1759572000-1759582800@www.hsbh.org
SUMMARY:Fleet Farm October-Fest
DESCRIPTION:🍂🎃 Join us this Saturday at Fleet Farm’s October Fest starting at 10 AM! \nWhile we won’t have live animals with us this time\, we’ll be there to chat about all the ways you can make a difference:🐾 Become a member🐾 Learn about adoptions🐾 Explore volunteer opportunities🐾 Sponsor a shelter dog (or two!) \nSwing by\, say hi\, and let’s celebrate fall together—all while helping pets in need. ❤️🐶🐱
URL:https://www.hsbh.org/event/fleet-farm-october-fest/
CATEGORIES:Community Events
END:VEVENT
BEGIN:VEVENT
DTSTART;TZID=America/Denver:20250831T130000
DTEND;TZID=America/Denver:20250831T160000
DTSTAMP:20260421T082609
CREATED:20250708T160850Z
LAST-MODIFIED:20250714T172755Z
UID:8393-1756645200-1756656000@www.hsbh.org
SUMMARY:10th Annual Wags & Waves
DESCRIPTION: WAGS & WAVES 2025 is almost here!  \nJoin us on Sunday\, August 31st\, at Jimmy Hilton Pool in Sioux Park for the 10th Annual Wags & Waves\, our end-of-summer pool party where dogs rule the pool! Bring your furry friend and enjoy an afternoon of swimming\, splashing\, and tail-wagging fun\, all while supporting the Humane Society of the Black Hills! \n What’s in store: Dog-friendly pool time Fun photo booth A great time with an even greater cause VIP Sponsor Swim: 1–2 PM Public Swim: 2–4 PM \nClick here to get your tickets (one ticket needed per dog – humans enter for free!) \nWe’re also looking for volunteers and sponsors to help make this year’s event the biggest splash yet. \n Stay tuned for more details right here and on Facebook Follow us on social media for updates\, sign-ups\, and more! \n \n 
URL:https://www.hsbh.org/event/10th-annual-wags-waves/
LOCATION:Jimmy Hilton Municipal Pool\, 940 Sheridan Lake Rd\, Rapid City\, SD\, 57702\, United States
CATEGORIES:Community Events
END:VEVENT
BEGIN:VEVENT
DTSTART;TZID=America/Denver:20250306T084500
DTEND;TZID=America/Denver:20250306T160000
DTSTAMP:20260421T082609
CREATED:20250204T194214Z
LAST-MODIFIED:20250204T195026Z
UID:7976-1741250700-1741276800@www.hsbh.org
SUMMARY:Grant-Writing Workshop
DESCRIPTION:Join the Humane Society of the Black Hills in welcoming Peggy Schlechter\, Community Vitality Program Director at South Dakota State University Extension\, for an engaging grant-writing workshop designed to elevate your organization’s funding strategies! This hands-on experience is tailored for nonprofit professionals\, community leaders\, and passionate individuals seeking to make a lasting impact through well-crafted proposals. \nSchedule of Events:\n8:30AM to 8:45AM – Check-in\n8:45AM – Welcome!\n11:45AM to 1:00PM – Break for lunch offsite*\n1:00PM – Afternoon session begins\n4:00PM – Workshop ends\n*Lunch not provided with registration. In addition to nearby fast-food options\, this list of local restaurants highlights more great spots to grab a bite! \nRegistration closes February 27th at midnight. Head to https://go.rallyup.com/grant-writing-workshop/ or text WORKSHOP to 33100 to learn more and grab your tickets!
URL:https://www.hsbh.org/event/grant-writing-workshop/
LOCATION:Black Hills Energy Event Center\, 7001 Mt. Rushmore Rd.\, Rapid City\, SD\, 57702\, United States
CATEGORIES:Community Events
END:VEVENT
END:VCALENDAR