BEGIN:VCALENDAR
VERSION:2.0
PRODID:-//Humane Society of the Black Hills - ECPv5.14.0.4//NONSGML v1.0//EN
CALSCALE:GREGORIAN
METHOD:PUBLISH
X-WR-CALNAME:Humane Society of the Black Hills
X-ORIGINAL-URL:https://www.hsbh.org
X-WR-CALDESC:Events for Humane Society of the Black Hills
REFRESH-INTERVAL;VALUE=DURATION:PT1H
X-Robots-Tag:noindex
X-PUBLISHED-TTL:PT1H
BEGIN:VTIMEZONE
TZID:America/Denver
BEGIN:DAYLIGHT
TZOFFSETFROM:-0700
TZOFFSETTO:-0600
TZNAME:MDT
DTSTART:20210314T090000
END:DAYLIGHT
BEGIN:STANDARD
TZOFFSETFROM:-0600
TZOFFSETTO:-0700
TZNAME:MST
DTSTART:20211107T080000
END:STANDARD
END:VTIMEZONE
BEGIN:VEVENT
DTSTART;VALUE=DATE:20210406
DTEND;VALUE=DATE:20210407
DTSTAMP:20260421T095504
CREATED:20210309T175504Z
LAST-MODIFIED:20210309T175606Z
UID:4449-1617667200-1617753599@www.hsbh.org
SUMMARY:Together We Care Tuesday at Applebee's!
DESCRIPTION:It’s the first Tuesday of the month!  The Humane Society of the Black Hills is the featured non-profit for Applebee’s Together We Care Tuesday today\, April 6th.  TODAY ONLY\, when you order any of these five menu items at our Rapid City Applebee’s\, partial proceeds will go to help local animals at the Humane Society of the Black Hills.  Not able to eat in-restaurant?  Don’t stress!  Curbside and to-go orders of the featured items also qualify.
URL:https://www.hsbh.org/event/together-we-care-tuesday-at-applebees-4/
LOCATION:Applebee’s Grill and Bar\, 2160 Haines Ave\, Rapid City\, SD\, 57701\, United States
CATEGORIES:Applebee's Together We Care Tuesday
END:VEVENT
BEGIN:VEVENT
DTSTART;VALUE=DATE:20210302
DTEND;VALUE=DATE:20210303
DTSTAMP:20260421T095504
CREATED:20210210T223709Z
LAST-MODIFIED:20210301T231946Z
UID:4362-1614643200-1614729599@www.hsbh.org
SUMMARY:Together We Care Tuesday at Applebee's
DESCRIPTION:It’s the first Tuesday of the month!  The Humane Society of the Black Hills is the featured non-profit for Applebee’s Together We Care Tuesday today\, March 2nd.  TODAY ONLY\, when you order any of these five menu items at our Rapid City Applebee’s\, partial proceeds will go to help local animals at the Humane Society of the Black Hills.  Not able to eat in-restaurant?  Don’t stress!  Curbside and to-go orders of the featured items also qualify.
URL:https://www.hsbh.org/event/together-we-care-tuesday-at-applebees-3/
LOCATION:Applebee’s Grill and Bar\, 2160 Haines Ave\, Rapid City\, SD\, 57701\, United States
CATEGORIES:Applebee's Together We Care Tuesday
END:VEVENT
BEGIN:VEVENT
DTSTART;VALUE=DATE:20210216
DTEND;VALUE=DATE:20210217
DTSTAMP:20260421T095504
CREATED:20210210T223223Z
LAST-MODIFIED:20210210T223755Z
UID:4360-1613433600-1613519999@www.hsbh.org
SUMMARY:Together We Care Tuesday at Applebee's
DESCRIPTION:The Humane Society of the Black Hills is the featured non-profit for Applebee’s Together We Care Tuesday today\, February 16th!  TODAY ONLY\, when you order any of these five menu items at our Rapid City Applebee’s\, partial proceeds will go to help local animals at the Humane Society of the Black Hills.  Not able to eat in-restaurant?  Don’t stress!  Curbside and to-go orders of the featured items also qualify.
URL:https://www.hsbh.org/event/together-we-care-tuesday-at-applebees-2/
LOCATION:Applebee’s Grill and Bar\, 2160 Haines Ave\, Rapid City\, SD\, 57701\, United States
CATEGORIES:Applebee's Together We Care Tuesday
END:VEVENT
BEGIN:VEVENT
DTSTART;VALUE=DATE:20210209
DTEND;VALUE=DATE:20210210
DTSTAMP:20260421T095504
CREATED:20210203T180229Z
LAST-MODIFIED:20210210T223040Z
UID:4316-1612828800-1612915199@www.hsbh.org
SUMMARY:Together We Care Tuesday at Applebee's
DESCRIPTION:The Humane Society of the Black Hills is the featured non-profit for Applebee’s Together We Care Tuesday today\, February 9th!  TODAY ONLY\, when you order any of these five menu items at our Rapid City Applebee’s\, partial proceeds will go to help local animals at the Humane Society of the Black Hills.  Not able to eat in-restaurant?  Don’t stress!  To-go orders of the featured items also qualify.
URL:https://www.hsbh.org/event/together-we-care-tuesday-at-applebees/
LOCATION:Applebee’s Grill and Bar\, 2160 Haines Ave\, Rapid City\, SD\, 57701\, United States
CATEGORIES:Applebee's Together We Care Tuesday
END:VEVENT
END:VCALENDAR